BEGIN:VCALENDAR
VERSION:2.0
PRODID:spatie/icalendar-generator
DESCRIPTION:Events from Auckland Canoe Club
X-WR-CALDESC:Events from Auckland Canoe Club
REFRESH-INTERVAL;VALUE=DURATION:PT1440M
X-PUBLISHED-TTL:PT1440M
BEGIN:VTIMEZONE
TZID:Pacific/Auckland
BEGIN:STANDARD
DTSTART:20240407T030000Z
TZOFFSETFROM:+1300
TZOFFSETTO:+1200
END:STANDARD
BEGIN:DAYLIGHT
DTSTART:20240929T020000Z
TZOFFSETFROM:+1200
TZOFFSETTO:+1300
END:DAYLIGHT
BEGIN:STANDARD
DTSTART:20250406T030000Z
TZOFFSETFROM:+1300
TZOFFSETTO:+1200
END:STANDARD
END:VTIMEZONE
BEGIN:VTIMEZONE
TZID:UTC
BEGIN:STANDARD
DTSTART:20250728T181105Z
TZOFFSETFROM:+0000
TZOFFSETTO:+0000
END:STANDARD
END:VTIMEZONE
BEGIN:VEVENT
UID:411-409
DTSTAMP:20260424T181105Z
SUMMARY:Beginners Kayak Training #4
LOCATION:Okahu Bay
ORGANIZER;CN=Secretary:MAILTO:secretary@aucklandcanoeclub.org.nz
DTSTART;TZID=Pacific/Auckland:20241207T093000
DTEND;TZID=Pacific/Auckland:20241208T000000
X-ALT-DESC;FMTTYPE=TEXT/HTML:<p>Beginners Kayak Training #4</p>\n<p>Saturda
 y 7 December 9.30am for 10am start</p>\n<p>Okahu Bay boat ramp\, next to F
 ergs</p>\n<p>How to Tow a Kayak</p>\n<p>1. Types of tow<br />\n2. Clipping
  on and rope management<br />\n3. Contact tow<br />\n4. Long and short tow
 s<br />\n5. Rafted tow</p>\n<p>Come and find out how to help others quickl
 y and safely.</p>\n<p>Please RSVP to Peter Van Kuyk 021 02521256 by 6pm Fr
 iday 6 December.</p>\n
CATEGORIES:General
URL;VALUE=URI:https://aucklandcanoeclub.org.nz/mc-events/beginners-kayak-tr
 aining-4/
METHOD:PUBLISH
END:VEVENT
END:VCALENDAR