BEGIN:VCALENDAR
VERSION:2.0
PRODID:spatie/icalendar-generator
DESCRIPTION:Events from Auckland Canoe Club
X-WR-CALDESC:Events from Auckland Canoe Club
REFRESH-INTERVAL;VALUE=DURATION:PT1440M
X-PUBLISHED-TTL:PT1440M
BEGIN:VTIMEZONE
TZID:Pacific/Auckland
BEGIN:DAYLIGHT
DTSTART:20230924T020000Z
TZOFFSETFROM:+1200
TZOFFSETTO:+1300
END:DAYLIGHT
BEGIN:STANDARD
DTSTART:20240407T030000Z
TZOFFSETFROM:+1300
TZOFFSETTO:+1200
END:STANDARD
BEGIN:DAYLIGHT
DTSTART:20240929T020000Z
TZOFFSETFROM:+1200
TZOFFSETTO:+1300
END:DAYLIGHT
END:VTIMEZONE
BEGIN:VTIMEZONE
TZID:UTC
BEGIN:STANDARD
DTSTART:20250730T042220Z
TZOFFSETFROM:+0000
TZOFFSETTO:+0000
END:STANDARD
END:VTIMEZONE
BEGIN:VEVENT
UID:396-394
DTSTAMP:20260426T042220Z
SUMMARY:SKISL training
LOCATION:
ORGANIZER;CN=ACC Webmaster:MAILTO:webadmin@aucklandcanoeclub.org.nz
DTSTART;TZID=Pacific/Auckland:20240525T080000
DTEND;TZID=Pacific/Auckland:20240525T100000
X-ALT-DESC;FMTTYPE=TEXT/HTML:<p>SKISL<br />\nSea Kayakers Inspired to Stret
 ch Limits</p>\n<p>Last Saturday of every month\, 8am on the water\, Orewa 
 estuary carpark near the bridge\, unless advised otherwise. Two hours of p
 ractical skills\, refresh on a mix of flat water\, tidal current\, and sma
 ll surf. Bring cash for coffee afterwards. All welcome.</p>\n<p>Enquiries 
 to Mark Aspinall 027 9697027</p>\n<p>https://www.facebook.com/groups/78062
 6002105061/?ref=share&amp;amp\;mibextid=KtfwRi</p>\n
CATEGORIES:General
URL;VALUE=URI:https://aucklandcanoeclub.org.nz/mc-events/skisl-training-4/
METHOD:PUBLISH
END:VEVENT
END:VCALENDAR