BEGIN:VCALENDAR
VERSION:2.0
PRODID:spatie/icalendar-generator
DESCRIPTION:Events from Auckland Canoe Club
X-WR-CALDESC:Events from Auckland Canoe Club
REFRESH-INTERVAL;VALUE=DURATION:PT1440M
X-PUBLISHED-TTL:PT1440M
BEGIN:VTIMEZONE
TZID:Pacific/Auckland
BEGIN:STANDARD
DTSTART:20240407T030000Z
TZOFFSETFROM:+1300
TZOFFSETTO:+1200
END:STANDARD
BEGIN:DAYLIGHT
DTSTART:20240929T020000Z
TZOFFSETFROM:+1200
TZOFFSETTO:+1300
END:DAYLIGHT
END:VTIMEZONE
BEGIN:VTIMEZONE
TZID:UTC
BEGIN:STANDARD
DTSTART:20250724T131024Z
TZOFFSETFROM:+0000
TZOFFSETTO:+0000
END:STANDARD
END:VTIMEZONE
BEGIN:VEVENT
UID:320-318
DTSTAMP:20260420T131024Z
SUMMARY:Sunday Morning Paddle
LOCATION:Okahu Bay
ORGANIZER;CN=ACC Webmaster:MAILTO:webadmin@aucklandcanoeclub.org.nz
DTSTART;TZID=Pacific/Auckland:20240804T080000
DTEND;TZID=Pacific/Auckland:20240804T103000
X-ALT-DESC;FMTTYPE=TEXT/HTML:<p>The Sunday morning paddle sets off from the
  Okahu Bay boat ramp at 8am. The average time for the paddle is around 2 t
 o 3 hours\, and the distance is around 10km. This is a ‘keep fit\, feel 
 good’ kind of paddle.</p>\n<p>The trip leader will plan a paddle that re
 flects the abilities of the group. If needed\, he will run you through the
  basics of setting up\, and getting in and out of the kayak.</p>\n<p>This 
 paddle is an excellent introduction to kayaking and the club\, or just a n
 ice way to have a gentle outing with other club members.</p>\n<p>Contact: 
 Terry Price\; Text to 0274 739 081</p>\n
CATEGORIES:General
URL;VALUE=URI:https://aucklandcanoeclub.org.nz/mc-events/sunday-morning-pad
 dle-31/
METHOD:PUBLISH
END:VEVENT
END:VCALENDAR